BEGIN:VCALENDAR
VERSION:2.0
PRODID:-//Eventin//Event Calendar//EN
CALSCALE:GREGORIAN
METHOD:PUBLISH
BEGIN:VEVENT
UID:940a19412ee94671d0dce50229471e4d@www.cdachurch.org
SUMMARY:Marriage Conference
DESCRIPTION:
LOCATION:CDA Main Campus
DTSTAMP:20260421T100658Z
DTSTART:20260417T120000Z
DTEND:20260418T210000Z
END:VEVENT
END:VCALENDAR
